{"text_format":"3","workbook":"xlsx","n_sheets":5,"sheets":["Om kalkulatoren","Arealopplysninger","GDE-kalkulator","PT-koder","Tabell"],"not_rendered":{"images":2,"external_links":2,"defined_names":15,"comments":3},"read":"whole","date_system":"1900"}

{"sheet":"Om kalkulatoren","index":0,"n_rows":19,"n_cols":4,"rows_kept":19,"merged":[[3,3,9,3],[5,1,6,1],[7,1,9,1],[12,3,18,3]]}
["Om GDE-kalkulatoren"]
["Arealopplysinger: oversikt spredeareal."]
[null,"Kommune-, gårds- og bruksnummer bør legges inn for få med alt areal.",null,"Kun hvite felt er åpne for innlegging av data."]
[null,"Egen gård","Tall fra søknad om produksjonstilskudd!\nSjekk godkjent spredeareal"]
[null,"Leid jord","Tall fra søknad om produksjonstilskudd.\nSjekk godkjent spredeareal!"]
[null,"Leid spredeareal (levert husdyrgjødel)","Arealtall fra spredeavtale du har med mottakere av husdyrgjødsel fra din gård. Avtalen må kunne dokumenteres."]
[null,null,"Husdyrgjødsel fra din gård inngår i utleiers gjødslingsplan."]
[null,"Utleid spredeareal (mottatt husdyrgjødsel)","Arealtall fra avtale om utleie av spredeareal og der du mottar husdyrgjødsel til andre. Avtalen må kunne dokumenteres."]
[null,null,"Kontroller at alt areal der husdyrgjødsla spres på er godkjent spredeareal på din gård. "]
[null,null,"Husdyrgjødsla du mottar inngår i din årlige gjødslingsplan."]
["GDE-kalkulator"]
[null,"Effektivt omregna spredeareal på godkjent beite hentes fra fra kommunens vedtak. Kun hvite felt er åpne for innlegging av data."]
[null,"Dyretall","Alle dyr i søknad om produksjonstilskudd og oversikt fra mottakere av slaktedyr legges inn."]
[null,"Avlspurke NAV","Korrigerte beregninger etter anslått gjødselmengde produsert i NAV-et."]
[null,"Avlspurke satellitt","Korrigerte beregninger etter anslått gjødselmengde som er produsert i satellitten (inkl smågris)."]
[null,"Engangspurker","Korrigerte beregninger ut fra realistiske forhold"]
[null,"Reduksjon beitepraksis","Antall dyr og uker på innmarksbeite utenom godkj. spredeareal og i utmark. Beitelogg er god dokumentasjon ved kontroll."]
[null,"Levert/ mottatt gjødsel","Kun åpning for gjødsel fra fjørfe og pelsdyr. Pga. innhold av vann kan annen husdyrgjødsel bli misvisende. Bruk areal i stedet."]
[null,"Spredeareal","Tallene kommer fra regnearket \"Arealopplysninger\"."]

{"sheet":"Arealopplysninger","index":1,"n_rows":59,"n_cols":53,"rows_kept":59,"merged":[[3,3,3,7],[3,12,4,13],[3,17,3,21],[3,22,3,24],[3,26,4,26],[4,3,4,7],[4,17,4,21],[4,22,4,24],[6,3,7,3],[6,4,7,4],[6,6,7,6],[6,7,7,7],[6,12,7,12],[6,13,7,13],[6,14,7,14],[6,15,7,15],[6,16,7,16],[6,17,7,17],[6,18,7,18],[6,19,7,19],[6,21,6,22],[6,23,7,23],[6,26,6,32],[6,35,7,35],[6,36,7,36],[6,41,7,41],[6,42,7,42],[6,43,7,43],[6,44,7,44],[6,46,7,46],[7,26,8,32],[9,26,10,32],[13,26,13,32],[14,26,15,32],[16,26,17,32],[18,26,20,32],[22,26,22,32],[23,26,24,32],[25,26,25,32],[27,26,28,26],[27,27,28,27],[27,28,28,28],[27,29,28,29],[27,31,27,32]]}
[]
[]
[]
[{"$nulls":3},"Velg fylke",{"$nulls":8},"Arealopplysninger",{"$nulls":13},{"$f":"TODAY()","v":"2022-04-07"}]
[{"$nulls":3},"Rogaland",{"$nulls":11},"Gnr.","Bnr.","Navn",{"$nulls":4},"Velg kommune"]
[]
[{"$nulls":3},"Kommune","Kom. Nr",null,"Kommune","Kom. Nr",{"$nulls":4},"Eierforhold","Kom. nr","Navn","Gnr","Bnr"," Dyrka jord "," Overfl.-dyrka ","Innm.-beite",null,"Omregna spr.areal",null,"Sprede-avtale?",null,null,"Informasjon om utfylling",{"$nulls":8},"Kom. Nr","Kommune",{"$nulls":4},"Sjekk"," Dyrka jord "," Overfl.-dyrka ","Innmarks-beite",null,"Sprede-avtale?","Omregna spr.areal"]
[{"$nulls":21},"Beite","Frukth. oa",{"$nulls":3},"\"Velg fylke\" for å få frem kommunenr (\"Kom.nr\") til utfylling av arealopplysninger.",{"$nulls":20},"Beite","Frukth. oa",null,"Kommuneindeks",null,"Sjekk spredeareal"]
[{"$nulls":3},{"$f":"IF($D$5=\"\",\"\",IF(HLOOKUP($D$5,Kommunenavn,AY9)=0,\"\",HLOOKUP($D$5,Kommunenavn,AY9)))","v":"Bjerkreim"},{"$f":"IF($D$5=\"\",\"\",IF(D9=\"\",\"\",VLOOKUP(D9,Kommunenr,2)))","v":1114},null,{"$f":"IF($D$5=\"\",\"\",IF(HLOOKUP($D$5,Kommunenavn,AY35)=0,\"\",HLOOKUP($D$5,Kommunenavn,AY35)))","v":""},{"$f":"IF($D$5=\"\",\"\",IF(G9=\"\",\"\",VLOOKUP(G9,Kommunenr,2)))","v":""},{"$nulls":4},"Egen jord (PT)",{"$f":"IF(W4=\"\",\"\",VLOOKUP(W4,Kommunenr,2))","v":""},{"$f":"IF(R4=\"\",\"\",R4)","v":""},{"$f":"IF(P4=\"\",\"\",P4)","v":""},{"$f":"IF(Q4=\"\",\"\",Q4)","v":""},{"$nulls":7},{"$f":"IF(M9=\"Leid spr.areal\",\"\",IF(T9<V9/2*3,\"NB!*\",\"\"))","v":""},{"$nulls":16},1,{"$f":"IF(AP9=1,IF(AU9=1,R9,0),0)","v":0},{"$f":"IF(AP9=1,IF(AU9=1,S9,0),0)","v":0},{"$f":"IF(AP9=1,IF(AU9=1,T9,0),0)","v":0},null,{"$f":"IF(M9=\"Egen jord (PT)\",1,IF(M9=\"Leid jord (PT)\",1,IF(X9=\"Ja\",1,\"\")))","v":1},{"$f":"IF($AU9=1,V9,0)","v":0},0,null,2,null,{"$f":"COUNTIF(Y9:Y35,\"NB!*\")","v":0}]
[{"$nulls":3},"Bokn",1145,null,"","",{"$nulls":16},{"$f":"IF(M10=\"Leid spr.areal\",\"\",IF(T10<V10/2*3,\"NB!*\",\"\"))","v":""},null,"Eierforhold: \"Egen jord (PT)\" og \"Leid jord (PT)\" er arealtallene i søknad om produksjonstilskudd.",{"$nulls":14},1,0,0,0,null,1,0,0,null,3]
[{"$nulls":3},"Eigersund",1101,null,"","",{"$nulls":16},{"$f":"IF(M11=\"Leid spr.areal\",\"\",IF(T11<V11/2*3,\"NB!*\",\"\"))","v":""},{"$nulls":16},1,0,0,0,null,1,0,0,null,4]
[{"$nulls":3},"Gjesdal",1122,null,"","",{"$nulls":16},{"$f":"IF(M12=\"Leid spr.areal\",\"\",IF(T12<V12/2*3,\"NB!*\",\"\"))","v":""},{"$nulls":16},1,0,0,0,null,1,0,0,null,5]
[{"$nulls":3},"Haugesund",1106,null,"","",{"$nulls":16},"",{"$nulls":16},1,0,0,0,null,1,0,0,null,6]
[{"$nulls":3},"Hjelmeland",1133,null,"","",{"$nulls":16},"",null,"Forklaringer",{"$nulls":14},1,0,0,0,null,1,0,0,null,7]
[{"$nulls":3},"Hå",1119,null,"","",{"$nulls":16},"",null,"Tellende areal på innmarksbeite er det effektive beitet, dvs. fratekt stein, berg i dagen mv...",{"$nulls":14},1,0,0,0,null,1,0,0,null,8]
[{"$nulls":3},"Karmøy",1149,null,"","",{"$nulls":16},"",{"$nulls":16},1,0,0,0,null,1,0,0,null,9]
[{"$nulls":3},"Klepp",1120,null,"","",{"$nulls":16},"",null,"Avlingen på et effektivt innmarksbeite tilsvarer grovt sett 2/3 av avlingen på en fulldyrka jord. ",{"$nulls":14},1,0,0,0,null,1,0,0,null,10]
[{"$nulls":3},"Kvitsøy",1144,null,"","",{"$nulls":16},"",{"$nulls":16},1,0,0,0,null,1,0,0,null,11]
[{"$nulls":3},"Lund",1112,null,"","",{"$nulls":16},"",null,"\"Omregna spr.areal\" (beite o.l..) er effektivt beiteareal omregna til fulldyrka jord (faktor 2/3 eller 0,67). Verdien ligger i vedtak fra kommune.",{"$nulls":14},1,0,0,0,null,1,0,0,null,12]
[{"$nulls":3},"Randaberg",1127,null,"","",{"$nulls":16},"",{"$nulls":16},1,0,0,0,null,1,0,0,null,13]
[{"$nulls":3},"Sandnes",1108,null,"","",{"$nulls":16},"",{"$nulls":16},1,0,0,0,null,1,0,0,null,14]
[{"$nulls":3},"Sauda",1135,null,"","",{"$nulls":16},"",{"$nulls":16},1,0,0,0,null,1,0,0,null,15]
[{"$nulls":3},"Sokndal",1111,null,"","",{"$nulls":16},"",null,"Merk",{"$nulls":14},1,0,0,0,null,1,0,0,null,16]
[{"$nulls":3},"Sola",1124,null,"","",{"$nulls":16},"",null,{"$f":"IF(BA9>0,\"*NB: Godkjent spredeareal på beiter på egen eller leid jord er høyere enn beitearealet.\",\"\")","v":""},{"$nulls":14},1,0,0,0,null,1,0,0,null,17]
[{"$nulls":3},"Stavanger",1103,null,"","",{"$nulls":16},"",{"$nulls":16},1,0,0,0,null,1,0,0,null,18]
[{"$nulls":3},"Strand",1130,null,"","",{"$nulls":16},"",null,{"$f":"IF(AD33<(AF33*3/2),\"PS: Omregnet spredeareal overstiger effektivt innmarksbeiteareal.\",\"\")","v":""},{"$nulls":14},1,0,0,0,null,1,0,0,null,19]
[{"$nulls":3},"Suldal",1134,null,"","",{"$nulls":16},"",{"$nulls":16},1,0,0,0,null,1,0,0,null,20]
[{"$nulls":3},"Time",1121,null,"","",{"$nulls":16},"",null,"Oversikt"," Dyrka jord "," Overf.-dyrka ","Innm.-beite",null,"Omregna spr.areal",{"$nulls":9},1,0,0,0,null,1,0,0,null,21]
[{"$nulls":3},"Tysvær",1146,null,"","",{"$nulls":16},"",{"$nulls":6},"Beite","Frukth. oa",{"$nulls":8},1,0,0,0,null,1,0,0,null,22]
[{"$nulls":3},"Utsira",1151,null,"","",{"$nulls":16},"",null,"Egen jord (PT)",{"$f":"SUMIF($M$9:$M$35,AA30,$AQ$9:$AQ$35)","v":0},{"$f":"SUMIF($M$9:$M$35,AA30,$AR$9:$AR$35)","v":0},{"$f":"SUMIF($M$9:$M$35,AA30,$AS$9:$AS$35)","v":0},null,{"$f":"SUMIF($M$9:$M$35,AA30,$AV$9:$AV$35)","v":0},{"$f":"SUMIF($M$9:$M$35,AA30,$AW$9:$AW$35)","v":0},{"$nulls":8},1,0,0,0,null,1,0,0,null,23]
[{"$nulls":3},"Vindafjord",1160,null,"","",{"$nulls":16},"",null,"Leid jord (PT)",{"$f":"SUMIF($M$9:$M$35,AA31,$AQ$9:$AQ$35)","v":0},{"$f":"SUMIF($M$9:$M$35,AA31,$AR$9:$AR$35)","v":0},{"$f":"SUMIF($M$9:$M$35,AA31,$AS$9:$AS$35)","v":0},null,{"$f":"SUMIF($M$9:$M$35,AA31,$AV$9:$AV$35)","v":0},{"$f":"SUMIF($M$9:$M$35,AA31,$AW$9:$AW$35)","v":0},{"$nulls":8},1,0,0,0,null,1,0,0,null,24]
[{"$nulls":3},"","",null,"","",{"$nulls":16},"",null,"Leid spr.areal",{"$f":"SUMIF($M$9:$M$35,AA32,$AQ$9:$AQ$35)","v":0},{"$f":"SUMIF($M$9:$M$35,AA32,$AR$9:$AR$35)","v":0},{"$f":"SUMIF($M$9:$M$35,AA32,$AS$9:$AS$35)","v":0},null,{"$f":"SUMIF($M$9:$M$35,AA32,$AV$9:$AV$35)","v":0},{"$f":"SUMIF($M$9:$M$35,AA32,$AW$9:$AW$35)","v":0},{"$nulls":8},1,0,0,0,null,1,0,0,null,25]
[{"$nulls":3},"","",null,"","",{"$nulls":16},"",null,"Sum",{"$f":"SUM(AB30:AB32)","v":0},{"$f":"SUM(AC30:AC32)","v":0},{"$f":"SUM(AD30:AD32)","v":0},null,{"$f":"SUM(AF30:AF32)","v":0},{"$f":"SUM(AG30:AG32)","v":0},{"$nulls":8},1,0,0,0,null,1,0,0,null,26]
[{"$nulls":3},"","",{"$nulls":19},"",{"$nulls":16},1,0,0,0,null,1,0,0,null,27]
[{"$nulls":3},{"$f":"G9","v":""},"",{"$nulls":19},"",null,"Utleid spr.areal",{"$f":"SUMIF($M$9:$M$35,AA35,$AQ$9:$AQ$35)","v":0},{"$f":"SUMIF($M$9:$M$35,AA35,$AR$9:$AR$35)","v":0},{"$f":"SUMIF($M$9:$M$35,AA35,$AS$9:$AS$35)","v":0},null,{"$f":"SUMIF($M$9:$M$35,AA35,$AV$9:$AV$35)","v":0},{"$f":"SUMIF($M$9:$M$35,AA35,$AW$9:$AW$35)","v":0},{"$nulls":8},1,0,0,0,null,1,0,0,null,28]
[{"$nulls":3},"","",{"$nulls":45},29]
[{"$nulls":3},"","",{"$nulls":45},30]
[null,"© Nono Dimby 2021",null,"","",{"$nulls":45},31]
[{"$nulls":3},"","",{"$nulls":45},32]
[{"$nulls":3},{"$f":"G14","v":""},"",{"$nulls":45},33]
[{"$nulls":3},{"$f":"G15","v":""},"",{"$nulls":45},34]
[{"$nulls":3},{"$f":"G16","v":""},"",{"$nulls":45},35]
[{"$nulls":3},{"$f":"G17","v":""},"",{"$nulls":45},36]
[{"$nulls":3},{"$f":"G18","v":""},"",{"$nulls":45},37]
[{"$nulls":3},{"$f":"G19","v":""},"",{"$nulls":45},38]
[{"$nulls":3},{"$f":"G20","v":""},"",{"$nulls":45},39]
[{"$nulls":3},{"$f":"G21","v":""},"",{"$nulls":45},40]
[{"$nulls":3},{"$f":"G22","v":""},"",{"$nulls":45},41]
[{"$nulls":3},{"$f":"G23","v":""},"",{"$nulls":45},42]
[{"$nulls":3},{"$f":"G24","v":""},"",{"$nulls":45},43]
[{"$nulls":3},{"$f":"G25","v":""},"",{"$nulls":45},44]
[{"$nulls":3},{"$f":"G26","v":""},"",{"$nulls":45},45]
[{"$nulls":3},{"$f":"G27","v":""},"",{"$nulls":45},46]
[{"$nulls":3},{"$f":"G28","v":""},"",{"$nulls":45},47]
[{"$nulls":3},{"$f":"G29","v":""},"",{"$nulls":45},48]
[{"$nulls":3},{"$f":"G30","v":""},"",{"$nulls":45},49]
[{"$nulls":3},{"$f":"G31","v":""},"",{"$nulls":45},50]
[{"$nulls":3},{"$f":"G32","v":""},"",{"$nulls":45},51]
[{"$nulls":3},{"$f":"G33","v":""},"",{"$nulls":45},52]

{"sheet":"GDE-kalkulator","index":2,"n_rows":48,"n_cols":31,"rows_kept":48,"merged":[[4,6,4,7],[4,8,4,11],[5,6,5,7],[5,8,5,11],[6,5,6,8],[6,14,6,19],[7,3,9,3],[7,5,7,8],[7,16,7,18],[7,23,8,23],[7,24,8,24],[8,5,8,8],[8,16,8,18],[9,5,9,8],[9,16,11,19],[10,3,15,3],[10,5,10,8],[11,5,11,8],[12,5,12,8],[13,5,13,8],[13,14,13,19],[14,5,14,8],[14,14,14,15],[15,5,15,8],[15,14,15,15],[16,3,18,3],[16,5,16,8],[16,14,16,15],[17,5,17,8],[17,14,17,15],[18,5,18,8],[18,14,18,15],[19,3,21,3],[19,5,19,8],[19,14,19,15],[20,5,20,8],[20,14,20,15],[21,5,21,8],[21,14,21,15],[22,3,28,3],[22,5,22,6],[23,5,23,6],[24,5,24,6],[24,14,24,17],[25,5,25,6],[26,5,26,6],[27,4,27,5],[28,5,28,6],[29,3,36,3],[29,5,29,6],[30,5,30,6],[31,5,31,6],[31,14,31,19],[32,5,32,8],[32,14,33,14],[32,15,33,15],[32,16,33,16],[32,17,32,18],[32,19,33,19],[33,5,33,8],[34,5,34,8],[35,5,35,8],[36,5,36,8],[37,3,38,3],[37,5,37,8],[38,5,38,8],[39,9,39,10],[39,11,39,12],[44,7,44,9],[46,3,46,5],[47,3,47,5],[47,6,47,19]]}
[]
[]
[]
[{"$nulls":4},"Spredeareal (Forskrift organisk gjødsel: FOR-2003-07-04-951)",{"$nulls":5},"År:",{"$f":"TODAY()","v":"2022-04-07"}]
[{"$nulls":4},{"$f":"IF(Arealopplysninger!P4<>\"\",Arealopplysninger!P4,\"\")","v":""},{"$f":"IF(Arealopplysninger!Q4<>\"\",Arealopplysninger!Q4,\"\")","v":""},{"$f":"IF(Arealopplysninger!R4<>\"\",Arealopplysninger!R4,\"\")","v":""},null,{"$f":"IF(Arealopplysninger!W4<>\"\",Arealopplysninger!W4,\"\")","v":""}]
[{"$nulls":4},"Gnr","Bnr","Navn",null,"Kommune",{"$nulls":3},"Kom.nr"]
[{"$nulls":3},"Dyr","Kode","Type",{"$nulls":3},"Faktor","1. okt","1. mars","GDE",null,"Oppsummering"]
[{"$nulls":3},"Hester",115,"Hester, under 3 år (i avl eller ikke)",{"$nulls":3},2,null,null,{"$f":"IF(AE10=3,IF(L8&K8=\"\",\"\",(L8+K8)/2/J8),\"\")","v":""},null,"Brutto GDE",{"$f":"IF(AE10=3,L40,\"\")","v":0},"Totalt spredeareal (daa)",null,null,{"$f":"IF(AE10=3,T39,\"\")","v":0},{"$nulls":3},"Kommune","Kom. Nr"]
[{"$nulls":4},116,"Hester, 3 år og eldre  (i avl eller ikke)",{"$nulls":3},2,null,null,{"$f":"IF(AE10=3,IF(L9&K9=\"\",\"\",(L9+K9)/2/J9),\"\")","v":""},null,"Red. beite",{"$f":"IF(AE10=3,T23,\"\")","v":0},{"$f":"IF(AE10=3,CONCATENATE(\"Arealbehov : \",ROUND(P12,0),\" GDE x 4 =\"),\"Arealbehov\")","v":"Arealbehov : 0 GDE x 4 ="},null,null,{"$f":"IF(AE10=3,ROUND(P12,2)*4,\"\")","v":0},{"$nulls":6},"Gnr","Bnr","Postnr","Poststed","Kontroll"]
[{"$nulls":4},193,"Hester i pensjon i beitesesongen",{"$nulls":3},2,null,null,{"$f":"IF(AE10=3,IF(L10&K10=\"\",\"\",(L10+K10)/2/J10),\"\")","v":""},null,"Levert",{"$f":"IF(AE10=3,R30,\"\")","v":0},{"$f":"IF(AE10=3,CONCATENATE(AB12,\" \",AC12,\" daa\"),\"\")","v":"Ledig spredeareal 0 daa"},{"$nulls":6},"Bjerkreim",1114,null,{"$f":"IF(E5=\"\",0,0.5)","v":0},{"$f":"IF(F5=\"\",0,0.5)","v":0},{"$f":"IF(G5=\"\",0,1)","v":0},{"$f":"IF(I5=\"\",0,1)","v":0},3]
[{"$nulls":3},"Storfe",120,"Melkekyr, kalva i de siste 15 måneder",{"$nulls":3},1,null,null,{"$f":"IF(AE10=3,IF(L11&K11=\"\",\"\",(L11+K11)/2/J11),\"\")","v":""},null,"Mottak",{"$f":"IF(AE10=3,T30,\"\")","v":0},{"$nulls":7},"Bokn",1145]
[{"$nulls":4},120,"Melkekyr (bevaringsrase), kalva siste 18 mnd",{"$nulls":3},1,null,null,{"$f":"IF(AE10=3,IF(L12&K12=\"\",\"\",(L12+K12)/2/J12),\"\")","v":""},null,"Netto GDE",{"$f":"IF(AE10=3,P8-P9-P10+P11,\"\")","v":0},{"$nulls":7},"Eigersund",1101,null,null,{"$f":"IF(T8>T9,\"Ledig spredeareal\",IF(T8=T9,\"Ledig spredeareal\",\"Manglende spredeareal\"))","v":"Ledig spredeareal"},{"$f":"IF(AE10=3,ROUND(IF(T8-T9>0,T8-T9,T9-T8),0),\"\")","v":0}]
[{"$nulls":4},121,"Ammekyr, kalvet de siste 15 måneder",{"$nulls":3},1.5,null,null,{"$f":"IF(AE10=3,IF(L13&K13=\"\",\"\",(L13+K13)/2/J13),\"\")","v":""},{"$nulls":10},"Gjesdal",1122,null,null,{"$f":"IF(M5=\"\",\"\",VLOOKUP(M5,Kommuner,2))","v":""},{"$f":"IF(M5=\"\",\"\",VLOOKUP(M5,Kommuner,3))","v":""}]
[{"$nulls":4},121,"Ammekyr (bevaringsrase), kalva siste 18 mnd",{"$nulls":3},1.5,null,null,{"$f":"IF(AE10=3,IF(L14&K14=\"\",\"\",(L14+K14)/2/J14),\"\")","v":""},null,"Beiting utenom godkjent spredeareal",{"$nulls":8},"Haugesund",1106]
[{"$nulls":4},119,"Øvrige storfe ",{"$nulls":3},3,null,null,{"$f":"IF(AE10=3,IF(L15&K15=\"\",\"\",(L15+K15)/2/J15),\"\")","v":""},null,"Beitedyr",null,"Faktor","Ant. dyr","Ant uker","GDE",{"$nulls":3},"Hjelmeland",1133]
[{"$nulls":4},120,"Jerseyku",{"$nulls":3},1.3,null,null,{"$f":"IF(AE10=3,IF(L16&K16=\"\",\"\",(L16+K16)/2/J16),\"\")","v":""},null,"Melkeku: ute dag og natt",null,{"$f":"IF(AE10=3,0.019,\"\")","v":0.019},null,null,{"$f":"IF(AE10=3,Q16*R16*S16,\"\")","v":{"v":0,"d":"0.0"}},{"$nulls":3},"Hå",1119]
[{"$nulls":3},"Sauer",145,"Søyer, født i fjor eller tidligere",{"$nulls":3},7,null,null,{"$f":"IF(AE10=3,IF(L17=\"\",\"\",L17/J17),\"\")","v":""},null,"Melkeku: ute kun dag",null,{"$f":"IF(AE10=3,0.01,\"\")","v":0.01},null,null,{"$f":"IF(AE10=3,Q17*R17*S17,\"\")","v":{"v":0,"d":"0.0"}},{"$nulls":3},"Karmøy",1149]
[{"$nulls":4},146,"Værer, født i fjor eller tidligere ",{"$nulls":3},7,null,null,{"$f":"IF(AE10=3,IF(L18=\"\",\"\",L18/J18),\"\")","v":""},null,"Ungdyr",null,{"$f":"IF(AE10=3,0.006,\"\")","v":0.006},null,null,{"$f":"IF(AE10=3,Q18*R18*S18,\"\")","v":{"v":0,"d":"0.0"}},{"$nulls":3},"Klepp",1120]
[{"$nulls":4},139,"Melkesau, født i fjor eller tidligere ",{"$nulls":3},7,null,null,{"$f":"IF(AE10=3,IF(L19=\"\",\"\",L19/J19),\"\")","v":""},null,"Ammekyr",null,{"$f":"IF(AE10=3,0.013,\"\")","v":0.013},null,null,{"$f":"IF(AE10=3,Q19*R19*S19,\"\")","v":{"v":0,"d":"0.0"}},{"$nulls":3},"Kvitsøy",1144]
[{"$nulls":3},"Geiter",140,"Melkegeiter ",{"$nulls":3},7,null,null,{"$f":"IF(AE10=3,IF(L20&K20=\"\",\"\",(L20+K20)/2/J20),\"\")","v":""},null,"Hest",null,{"$f":"IF(AE10=3,0.01,\"\")","v":0.01},null,null,{"$f":"IF(AE10=3,Q20*R20*S20,\"\")","v":{"v":0,"d":"0.0"}},{"$nulls":3},"Lund",1112]
[{"$nulls":4},142,"Ammegeiter ",{"$nulls":3},7,null,null,{"$f":"IF(AE10=3,IF(L21&K21=\"\",\"\",(L21+K21)/2/J21),\"\")","v":""},null,"Vinterfòra sau eller geit",null,{"$f":"IF(AE10=3,0.003,\"\")","v":0.003},null,null,{"$f":"IF(AE10=3,Q21*R21*S21,\"\")","v":{"v":0,"d":"0.0"}},{"$nulls":3},"Randaberg",1127]
[{"$nulls":4},144,"Bukker og ungdyr (inkl. kje) ",{"$nulls":3},7,null,null,{"$f":"IF(AE10=3,IF(L22&K22=\"\",\"\",(L22+K22)/2/J22),\"\")","v":""},null,"Red. kontraktprod. egg",null,{"$f":"IF(AE10=3,0.000083,\"\")","v":{"v":8.3e-05,"d":"0.00008"}},null,null,{"$f":"IF(AE10=3,Q22*R22*S22,\"\")","v":{"v":0,"d":"0.0"}},{"$nulls":3},"Sandnes",1108]
[{"$nulls":3},"Griser",155,"Avlspurker, minst ett kull ",null,"Fytase","Ja",{"$f":"IF(I23=\"Ja\",3,2.5)","v":{"v":3,"d":"3.0"}},null,null,{"$f":"IF(AE10=3,IF(L23&K23=\"\",\"\",(L23+K23)/2/J23),\"\")","v":""},{"$nulls":5},"Sum GDE reduksjon på beite",{"$f":"IF(AE10=3,SUM(T16:T22),\"\")","v":{"v":0,"d":"0.0"}},{"$nulls":3},"Sauda",1135]
[{"$nulls":4},155,"Avlspurker i NAV         (korrigert faktor)",null,"Fytase","Ja",{"$f":"IF(I23=\"Ja\",4,2.9)","v":{"v":4,"d":"4.0"}},null,null,{"$f":"IF(AE10=3,IF(L24&K24=\"\",\"\",(L24+K24)/2/J24),\"\")","v":""},{"$nulls":10},"Sokndal",1111]
[{"$nulls":4},155,"Avlspurker i satelitt   (korrigert faktor)",null,"Fytase","Ja",{"$f":"IF(I23=\"Ja\",2.4,2.19)","v":2.4},null,null,{"$f":"IF(AE10=3,IF(L25&K25=\"\",\"\",(L25+K25)/2/J25),\"\")","v":""},null,"Levert/mottatt husdyrgjødsel",{"$nulls":4},"Krever kvittering",{"$nulls":3},"Sola",1124]
[{"$nulls":4},156,"Råner i avl",null,"Fytase","Ja",{"$f":"IF(I26=\"Ja\",3,2.5)","v":{"v":3,"d":"3.0"}},null,null,{"$f":"IF(AE10=3,IF(L26&K26=\"\",\"\",(L26+K26)/2/J26),\"\")","v":""},null,"Dyreslag","Faktor","Levert (m3)","Levert GDE","Mottak (m3)","Mottak GDE",{"$nulls":3},"Stavanger",1103]
[{"$nulls":4},184,"NB: Slakta gris på årsbasis",null,"Fytase","Ja",{"$f":"IF(I27=\"Ja\",20,18)","v":20},null,null,{"$f":"IF(AE10=3,IF(L27=\"\",\"\",L27/J27),\"\")","v":""},null,"Fjørfe TS < 33% ",{"$f":"IF(AE10=3,0.16,\"\")","v":0.16},null,{"$f":"IF(AE10=3,P27*Q27,\"\")","v":{"v":0,"d":"0.0"}},null,{"$f":"IF(AE10=3,S27*P27,\"\")","v":{"v":0,"d":"0.0"}},{"$nulls":3},"Strand",1130]
[{"$nulls":4},"157, 158, 159",null,"Ungpurker/råner påsatt til avl","Fytase","Ja",{"$f":"IF(I28=\"Ja\",9,8)","v":9},null,null,{"$f":"IF(AE10=3,IF((K28+L28)=0,\"\",(K28+L28)/2/J28),\"\")","v":""},null,"Fjørfe TS > 33% ",{"$f":"IF(AE10=3,0.36,\"\")","v":0.36},null,{"$f":"IF(AE10=3,P28*Q28,\"\")","v":{"v":0,"d":"0.0"}},null,{"$f":"IF(AE10=3,S28*P28,\"\")","v":{"v":0,"d":"0.0"}},{"$nulls":3},"Suldal",1134]
[{"$nulls":4},"Lev.db","Solgte ungpurker/råner >50 kg/>15 uker",null,"Fytase","Ja",{"$f":"IF(I29=\"Ja\",20,18)","v":20},null,null,{"$f":"IF(AE10=3,IF(L29=\"\",\"\",L29/J29),\"\")","v":""},null,"Pelsdyr",{"$f":"IF(AE10=3,0.2,\"\")","v":{"v":0.2,"d":"0.20"}},null,{"$f":"IF(AE10=3,P29*Q29,\"\")","v":{"v":0,"d":"0.0"}},null,{"$f":"IF(AE10=3,S29*P29,\"\")","v":{"v":0,"d":"0.0"}},{"$nulls":3},"Time",1121]
[{"$nulls":3},"Fjørfe","161-162","Verpe- og rugehøner, > 20 uker",null,"Fytase","Ja",{"$f":"IF(I30=\"Ja\",100,80)","v":100},null,null,{"$f":"IF(AE10=3,IF(L30&K30=\"\",\"\",(L30+K30)/2/J30),\"\")","v":""},{"$nulls":3},"Sum levert",{"$f":"IF(AE10=3,SUM(R27:R29),\"\")","v":{"v":0,"d":"0.0"}},"Sum mottak",{"$f":"IF(AE10=3,SUM(T27:T29),\"\")","v":{"v":0,"d":"0.0"}},{"$nulls":3},"Tysvær",1146]
[{"$nulls":4},175,"Livkylling, påsatt til verpehøns ",null,"Fytase","Ja",{"$f":"IF(I31=\"Ja\",690,550)","v":690},null,null,{"$f":"IF(AE10=3,IF(K31=\"\",\"\",K31/J31),\"\")","v":""},{"$nulls":10},"Utsira",1151]
[{"$nulls":4},186,"Slaktekyllinger (NB: sum levert i året)",null,"Fytase","Ja",{"$f":"IF(I32=\"Ja\",1750,1400)","v":{"v":1750,"d":"1,750"}},null,null,{"$f":"IF(AE10=3,IF(K32=\"\",\"\",K32/J32),\"\")","v":""},null,"Godkjent spredeareal                      Må kunne dokumenteres!",{"$nulls":8},"Vindafjord",1160]
[{"$nulls":4},168,"Avlsdyr ender og kalkuner",{"$nulls":3},40,null,null,{"$f":"IF(AE10=3,IF(L33&K33=\"\",\"\",(L33+K33)/2/J33),\"\")","v":""},null,"Eierforhold","Dyrka jord","Overfl.-dyrka","Eff. areal omregnet",null,"Sum daa"]
[{"$nulls":4},168,"Avlsdyr gjess ",{"$nulls":3},20,null,null,{"$f":"IF(AE10=3,IF(L34&K34=\"\",\"\",(L34+K34)/2/J34),\"\")","v":""},{"$nulls":4},"Beite","Frukth.oa"]
[{"$nulls":4},174,"Slakteender",{"$nulls":3},300,null,null,{"$f":"IF(AE10=3,IF(K35=\"\",\"\",K35/J35),\"\")","v":""},null,"   Egen gård (PT)",{"$f":"Arealopplysninger!AB30","v":0},{"$f":"Arealopplysninger!AC30","v":0},{"$f":"Arealopplysninger!AF30","v":0},{"$f":"Arealopplysninger!AG30","v":0},{"$f":"IF(AE10=3,SUM(P35:S35),\"\")","v":0}]
[{"$nulls":4},174,"Slaktekalkuner",{"$nulls":3},240,null,null,{"$f":"IF(AE10=3,IF(K36=\"\",\"\",K36/J36),\"\")","v":""},null,"+ Leid areal (PT)",{"$f":"Arealopplysninger!AB31","v":0},{"$f":"Arealopplysninger!AC31","v":0},{"$f":"Arealopplysninger!AF31","v":0},{"$f":"Arealopplysninger!AG31","v":0},{"$f":"IF(AE10=3,SUM(P36:S36),\"\")","v":0}]
[{"$nulls":4},174,"Slaktegjess",{"$nulls":3},150,null,null,{"$f":"IF(AE10=3,IF(K37=\"\",\"\",K37/J37),\"\")","v":""},null,"+ Leid spr.areal",{"$f":"Arealopplysninger!AB32","v":0},{"$f":"Arealopplysninger!AC32","v":0},{"$f":"Arealopplysninger!AF32","v":0},{"$f":"Arealopplysninger!AG32","v":0},{"$f":"IF(AE10=3,SUM(P37:S37),\"\")","v":0}]
[{"$nulls":3},"Pels",170,"Minktisper ",{"$nulls":3},40,null,null,{"$f":"IF(AE10=3,IF(K38=\"\",\"\",K38/J38),\"\")","v":""},null,"- Utleid spr.areal",{"$f":"-Arealopplysninger!AB35","v":0},{"$f":"-Arealopplysninger!AC35","v":0},{"$f":"-Arealopplysninger!AF35","v":0},{"$f":"-Arealopplysninger!AG35","v":0},{"$f":"IF(AE10=3,SUM(P38:S38),\"\")","v":0}]
[{"$nulls":4},171,"Revetisper ",{"$nulls":3},25,null,null,{"$f":"IF(AE10=3,IF(K39=\"\",\"\",K39/J39),\"\")","v":""},null,"Sum spr.areal",{"$f":"IF(AE10=3,SUM(P35:P38),\"\")","v":0},{"$f":"IF(AE10=3,SUM(Q35:Q38),\"\")","v":0},{"$f":"IF(AE10=3,SUM(R35:R38),\"\")","v":0},{"$f":"IF(AE10=3,SUM(S35:S38),\"\")","v":0},{"$f":"IF(AE10=3,SUM(P39:S39),\"\")","v":0}]
[{"$nulls":9},"Brutto GDE",null,{"$f":"IF(AE10=3,SUM(M8:M39),\"\")","v":0}]
[]
[]
[]
[]
[{"$nulls":6},"Forklaring PT-koder.     Velg PT-kode"]
[]
[{"$nulls":3},"Forklaring",null,null,"Beskrivelse"]
[{"$nulls":3},{"$f":"IF(H45=\"\",\"\",VLOOKUP(H45,PT,2))","v":""},null,null,{"$f":"IF(H45=\"\",\"\",VLOOKUP(H45,PT,3))","v":""}]

{"sheet":"PT-koder","index":3,"n_rows":31,"n_cols":3,"rows_kept":31,"hidden":true}
["PT-kode","Beskrivelse","Forklaring"]
[115,"Hester, under 3 år (i avl eller ikke)","Hester under 3 år på foretaket. Hester i pensjon på vinter mot godtgjørelse regnes med om foretaket har ansvaret for stell. Hester på foretaket, som stelles av eieren regnes ikke med."]
[116,"Hester, 3 år og eldre  (i avl eller ikke)","Hester over 3 år på foretaket. Hester i pensjon på vinter mot godtgjørelse regnes med om foretaket har ansvaret for stell. Hester på foretaket, som stelles av eieren regnes ikke med."]
[119,"Øvrige storfe ","Storfe som ikke er melkeku (120) eller ammku ( 121) dvs. kalver, ungokser, okser, kviger og kyr. Kyr som har kalvet i løpet av de siste 15 (18) måneder, men som ikke oppfyller kravet til vanlig jordbruksproduksjon."]
[120,"Melkekyr, kalva i de siste 15 måneder","Kyr i melkeproduksjon hos foretak med disponibel melkekvote eller lokalforedlingskvote, og som har kalvet i løpet av de siste 15 månedene."]
[120,"Melkekyr (bevaringsrase), kalva siste 18 mnd","Kyr i melkeproduksjon hos foretak med disponibel melkekvote eller lokalforedlingskvote, og som har kalvet i løpet av de siste 15 månedene."]
[120,"Jerseyku"]
[121,"Ammekyr, kalvet de siste 15 måneder","Ikke  melkekyr men kalvet i løpet av de siste 15 måneder (18 måneder for kyr av bevaringsverdig rase)."]
[121,"Ammekyr (bevaringsrase), kalva siste 18 mnd","Ikke  melkekyr men kalvet i løpet av de siste 15 måneder (18 måneder for kyr av bevaringsverdig rase)."]
[139,"Melkesau, født i fjor eller tidligere ","Melkesauer født i fjor eller tidligere der melken går til råstoff ved lokal foredling."]
[140,"Melkegeiter ","Melkegeiter på foretak med disponibel kvote eller lokalforedlingskvote, inkl. geiter i sinperiode før start på neste laktasjon."]
[142,"Ammegeiter ","Geiter som har kjeet minst en gang og  ikke er melkegeiter."]
[144,"Bukker og ungdyr (inkl. kje) ","Alle andre geiter: kje, bukker og ungdyr som ikke har kjeet."]
[145,"Søyer, født i fjor eller tidligere","Vinterfora og utegangarsøyer født i fjor eller tidligere. Ikke melkesau."]
[146,"Værer, født i fjor eller tidligere ","Vinterfôra utegangerværer født i fjor eller tidligere."]
[155,"Avlspurker, minst ett kull ","Avlspurker: Inkl. griser, villsvin og villsvinkrysninger.\n- I NAV: formel korrigert for gjødselmengde avlspurkene produserer i NAV-et\n- I satellitt: formel korrigert for gjødselmenge avvlspurkene og grisungene produserer i satelitten."]
[156,"Råner i avl","Inkl. griser, villsvin og villsvinkrysninger."]
[168,"Avlsdyr ender og kalkuner","Avlsdyr av ender og kalkuner"]
[168,"Avlsdyr gjess ","Avlsdyr av gjess"]
[170,"Minktisper ","Minktisper "]
[171,"Revetisper ","Revetisper "]
[174,"Slakteender","Ender, kalkuner og gjess for slakt"]
[174,"Slaktekalkuner","Ender, kalkuner og gjess for slakt"]
[174,"Slaktegjess","Ender, kalkuner og gjess for slakt"]
[175,"Livkylling, påsatt til verpehøns ","Livkyllinger, påsatt til verpehøns"]
[186,"Slaktekyllinger\n(NB sum levert i året)","Sum slaktekyllinger levert til slakt gjennom året, ikke bare på telledato."]
[184,"NB: Slakta gris på årsbasis","Alle slakta gris på årsbasis fra leveransedatabasen. NB. Dette er antall faktisk slakta gris!\nNB: Kode 184 skal i utgangspunktet brukes til spredeareal for slaktegris."]
[193,"Hester i pensjon i beitesesongen","Hester i pensjon i beitesesong registreres bare i oktober. Skriftlig avtale. "]
["157, 158, 159","Ungpurker/råner påsatt til avl","Alle gris: påsett avl fra smågris til grising (fratrekt solgte livdyr). Purker som slaktes etter 1. grising (engangspurker) fanges opp her. "]
["161-162","Verpe- og rugehøner, > 20 uker","Ved opphold mellom to innsett for verpehøner på telledato (1. mai 2017 og 1. oktober 2017), kan antall høner ved forrige telledato føres i  160. Dette gjelder både for foretak med konsumeggproduksjon og for foretak med rugeeggproduksjon. Foretaket må ha kontrakt om kjøp av nye høner, og oppholdsperioden kan maksimalt være 12 uker. Oppholdsperioden regnes fra slakting til høner i nytt kull er 20 uker gamle."]
["Lev.db","Solgte ungpurker/ råner >50 kg/>15 uker","Opplysninger fra leveransedatabasen. Viktig at dyr i PT-kode 157 ikke blir tatt med."]

{"sheet":"Tabell","index":4,"n_rows":357,"n_cols":18,"rows_kept":357,"hidden":true}
["Fylker",null,"Agder","Innlandet","Møre og Romsdal","Nordland","Oslo","Rogaland","Troms og Finnmark","Trøndelag","Vestfold og Telemark","Vestland","Viken",{"$nulls":3},"Kommunenavn","Nr"]
["Agder",null,"Arendal","Alvdal","Aukra","Alstahaug","Oslo","Bjerkreim","Alta","Flatanger","Bamble","Alver","Aremark",{"$nulls":3},"Alstahaug",1820]
["Innlandet",null,"Birkenes","Dovre","Aure","Andøy",null,"Bokn","Balsfjord","Frosta","Drangedal","Askvoll","Asker",{"$nulls":3},"Alta",5403]
["Møre og Romsdal",null,"Bygland","Eidskog","Averøy","Beiarn",null,"Eigersund","Bardu","Frøya","Fyresdal","Askøy","Aurskog-Høland",{"$nulls":3},"Alvdal",3428]
["Nordland",null,"Bykle","Elverum","Fjord","Bindal",null,"Gjesdal","Berlevåg","Grong","Færder","Aurland","Bærum",{"$nulls":3},"Alver",4631]
["Oslo",null,"Evje og Hornnes","Engerdal","Giske","Bodø",null,"Haugesund","Båtsfjord","Heim","Hjartdal","Austevoll","Drammen",{"$nulls":3},"Andøy",1871]
["Rogaland",null,"Farsund","Etnedal","Gjemnes","Brønnøy",null,"Hjelmeland","Dyrøy","Hitra","Holmestrand","Austrheim","Eidsvoll",{"$nulls":3},"Aremark",3012]
["Troms og Finnmark",null,"Flekkefjord","Folldal","Hareid","Bø",null,"Hå","Gamvik","Holtålen","Horten","Bergen","Enebakk",{"$nulls":3},"Arendal",4203]
["Trøndelag",null,"Froland","Gausdal","Herøy","Dønna",null,"Karmøy","Gratangen","Høylandet","Kragerø","Bjørnafjorden","Flesberg",{"$nulls":3},"Asker",3025]
["Vestfold og Telemark",null,"Gjerstad","Gjøvik","Hustadvika","Evenes",null,"Klepp","Hammerfest","Inderøy","Kviteseid","Bremanger","Flå",{"$nulls":3},"Askvoll",4645]
["Vestland",null,"Grimstad","Gran","Kristiansund","Fauske",null,"Kvitsøy","Harstad","Indre Fosen","Larvik","Bømlo","Fredrikstad",{"$nulls":3},"Askøy",4627]
["Viken",null,"Hægebostad","Grue","Molde","Flakstad",null,"Lund","Hasvik","Leka","Midt-Telemark","Eidfjord","Frogn",{"$nulls":3},"Aukra",1547]
[null,null,"Iveland","Hamar","Rauma","Gildeskål",null,"Randaberg","Ibestad","Levanger","Nissedal","Etne","Gjerdrum",{"$nulls":3},"Aure",1576]
[null,null,"Kristiansand","Kongsvinger","Sande","Grane",null,"Sandnes","Karasjok","Lierne","Nome","Fedje","Gol",{"$nulls":3},"Aurland",4641]
[null,null,"Kvinesdal","Lesja","Smøla","Hadsel",null,"Sauda","Karlsøy","Malvik","Notodden","Fitjar","Halden",{"$nulls":3},"Aurskog-Høland",3026]
[null,null,"Lillesand","Lillehammer","Stranda","Hamarøy",null,"Sokndal","Kautokeino","Melhus","Porsgrunn","Fjaler","Hemsedal",{"$nulls":3},"Austevoll",4625]
[null,null,"Lindesnes","Lom","Sula","Hattfjelldal",null,"Sola","Kvæfjord","Meråker","Sandefjord","Gloppen","Hol",{"$nulls":3},"Austrheim",4632]
[null,null,"Lyngdal","Løten","Sunndal","Hemnes",null,"Stavanger","Kvænangen","Midtre Gauldal","Seljord","Gulen","Hole",{"$nulls":3},"Averøy",1554]
[null,null,"Risør","Nord-Aurdal","Surnadal","Herøy",null,"Strand","Kåfjord","Namsos","Siljan","Hyllestad","Hurdal",{"$nulls":3},"Balsfjord",5422]
[null,null,"Sirdal","Nord-Fron","Sykkylven","Leirfjord",null,"Suldal","Lavangen","Namsskogan","Skien","Høyanger","Hvaler",{"$nulls":3},"Bamble",3813]
[null,null,"Tvedestrand","Nord-Odal","Tingvoll","Lurøy",null,"Time","Lebesby","Nærøysund","Tinn","Kinn","Indre Østfold",{"$nulls":3},"Bardu",5416]
[null,null,"Valle","Nordre Land","Ulstein","Lødingen",null,"Tysvær","Loppa","Oppdal","Tokke","Kvam","Jevnaker",{"$nulls":3},"Beiarn",1839]
[null,null,"Vegårshei","Os","Vanylven","Meløy",null,"Utsira","Lyngen","Orkland","Tønsberg","Kvinnherad","Kongsberg",{"$nulls":3},"Bergen",4601]
[null,null,"Vennesla","Rendalen","Vestnes","Moskenes",null,"Vindafjord","Målselv","Osen","Vinje","Luster","Krødsherad",{"$nulls":3},"Berlevåg",5440]
[null,null,"Åmli","Ringebu","Volda","Narvik",null,null,"Måsøy","Overhalla",null,"Lærdal","Lier",{"$nulls":3},"Bindal",1811]
[null,null,"Åseral","Ringsaker","Ørsta","Nesna",null,null,"Nesseby","Rennebu",null,"Masfjorden","Lillestrøm",{"$nulls":3},"Birkenes",4216]
[null,null,"","Sel","Ålesund","Rana",null,null,"Nordkapp","Rindal",null,"Modalen","Lunner",{"$nulls":3},"Bjerkreim",1114]
[{"$nulls":3},"Skjåk",null,"Rødøy",null,null,"Nordreisa","Røros",null,"Osterøy","Lørenskog",{"$nulls":3},"Bjørnafjorden",4624]
[{"$nulls":3},"Stange",null,"Røst",null,null,"Porsanger","Røyrvik",null,"Samnanger","Marker",{"$nulls":3},"Bodø",1804]
[{"$nulls":3},"Stor-Elvdal",null,"Saltdal",null,null,"Salangen","Selbu",null,"Sogndal","Modum",{"$nulls":3},"Bokn",1145]
[{"$nulls":3},"Søndre Land",null,"Sortland",null,null,"Senja","Skaun",null,"Solund","Moss",{"$nulls":3},"Bremanger",4648]
[{"$nulls":3},"Sør-Aurdal",null,"Steigen",null,null,"Skjervøy","Snåsa",null,"Stad","Nannestad",{"$nulls":3},"Brønnøy",1813]
[{"$nulls":3},"Sør-Fron",null,"Sømna",null,null,"Storfjord","Steinkjer",null,"Stord","Nes",{"$nulls":3},"Bygland",4220]
[{"$nulls":3},"Sør-Odal",null,"Sørfold",null,null,"Sørreisa","Stjørdal",null,"Stryn","Nesbyen",{"$nulls":3},"Bykle",4222]
[{"$nulls":3},"Tolga",null,"Træna",null,null,"Sør-Varanger","Trondheim",null,"Sunnfjord","Nesodden",{"$nulls":3},"Bærum",3024]
[{"$nulls":3},"Trysil",null,"Vefsn",null,null,"Tana","Tydal",null,"Sveio","Nittedal",{"$nulls":3},"Bø",1867]
[{"$nulls":3},"Tynset",null,"Vega",null,null,"Tjeldsund","Verdal",null,"Tysnes","Nordre Follo",{"$nulls":3},"Bømlo",4613]
[{"$nulls":3},"Vang",null,"Vestvågøy",null,null,"Tromsø","Ørland",null,"Ullensvang","Nore og Uvdal",{"$nulls":3},"Båtsfjord",5443]
[{"$nulls":3},"Vestre Slidre",null,"Vevelstad",null,null,"Vadsø","Åfjord",null,"Ulvik","Rakkestad",{"$nulls":3},"Dovre",3431]
[{"$nulls":3},"Vestre Toten",null,"Værøy",null,null,"Vardø",null,null,"Vaksdal","Ringerike",{"$nulls":3},"Drammen",3005]
[{"$nulls":3},"Vågå",null,"Vågan",{"$nulls":5},"Vik","Rollag",{"$nulls":3},"Drangedal",3815]
[{"$nulls":3},"Våler (Hedm.)",null,"Øksnes",{"$nulls":5},"Voss","Rælingen",{"$nulls":3},"Dyrøy",5420]
[{"$nulls":3},"Østre Toten",{"$nulls":7},"Øygarden","Råde",{"$nulls":3},"Dønna",1827]
[{"$nulls":3},"Øyer",{"$nulls":7},"Årdal","Sarpsborg",{"$nulls":3},"Eidfjord",4619]
[{"$nulls":3},"Øystre Slidre",{"$nulls":8},"Sigdal",{"$nulls":3},"Eidskog",3416]
[{"$nulls":3},"Åmot",{"$nulls":8},"Skiptvet",{"$nulls":3},"Eidsvoll",3035]
[{"$nulls":3},"Åsnes",{"$nulls":8},"Ullensaker",{"$nulls":3},"Eigersund",1101]
[{"$nulls":12},"Vestby",{"$nulls":3},"Elverum",3420]
[{"$nulls":12},"Våler (Østf.)",{"$nulls":3},"Enebakk",3028]
[{"$nulls":12},"Øvre Eiker",{"$nulls":3},"Engerdal",3425]
[{"$nulls":12},"Ål",{"$nulls":3},"Etne",4611]
[{"$nulls":12},"Ås",{"$nulls":3},"Etnedal",3450]
[{"$nulls":16},"Evenes",1853]
[{"$nulls":16},"Evje og Hornnes",4219]
[{"$nulls":16},"Farsund",4206]
[{"$nulls":16},"Fauske",1841]
[{"$nulls":16},"Fedje",4633]
[{"$nulls":16},"Fitjar",4615]
[{"$nulls":16},"Fjaler",4646]
[{"$nulls":16},"Fjord",1578]
[{"$nulls":16},"Flakstad",1859]
[{"$nulls":16},"Flatanger",5049]
[{"$nulls":16},"Flekkefjord",4207]
[{"$nulls":16},"Flesberg",3050]
[{"$nulls":16},"Flå",3039]
[{"$nulls":16},"Folldal",3429]
[{"$nulls":16},"Fredrikstad",3004]
[{"$nulls":16},"Frogn",3022]
[{"$nulls":16},"Froland",4214]
[{"$nulls":16},"Frosta",5036]
[{"$nulls":16},"Frøya",5014]
[{"$nulls":16},"Fyresdal",3823]
[{"$nulls":16},"Færder",3811]
[{"$nulls":16},"Gamvik",5439]
[{"$nulls":16},"Gausdal",3441]
[{"$nulls":16},"Gildeskål",1838]
[{"$nulls":16},"Giske",1532]
[{"$nulls":16},"Gjemnes",1557]
[{"$nulls":16},"Gjerdrum",3032]
[{"$nulls":16},"Gjerstad",4211]
[{"$nulls":16},"Gjesdal",1122]
[{"$nulls":16},"Gjøvik",3407]
[{"$nulls":16},"Gloppen",4650]
[{"$nulls":16},"Gol",3041]
[{"$nulls":16},"Gran",3446]
[{"$nulls":16},"Grane",1825]
[{"$nulls":16},"Gratangen",5414]
[{"$nulls":16},"Grimstad",4202]
[{"$nulls":16},"Grong",5045]
[{"$nulls":16},"Grue",3417]
[{"$nulls":16},"Gulen",4635]
[{"$nulls":16},"Hadsel",1866]
[{"$nulls":16},"Halden",3001]
[{"$nulls":16},"Hamar",3403]
[{"$nulls":16},"Hamarøy",1875]
[{"$nulls":16},"Hammerfest",5406]
[{"$nulls":16},"Hareid",1517]
[{"$nulls":16},"Harstad",5402]
[{"$nulls":16},"Hasvik",5433]
[{"$nulls":16},"Hattfjelldal",1826]
[{"$nulls":16},"Haugesund",1106]
[{"$nulls":16},"Heim",5055]
[{"$nulls":16},"Hemnes",1832]
[{"$nulls":16},"Hemsedal",3042]
[{"$nulls":16},"Herøy",1515]
[{"$nulls":16},"Herøy",1818]
[{"$nulls":16},"Hitra",5056]
[{"$nulls":16},"Hjartdal",3819]
[{"$nulls":16},"Hjelmeland",1133]
[{"$nulls":16},"Hol",3044]
[{"$nulls":16},"Hole",3038]
[{"$nulls":16},"Holmestrand",3802]
[{"$nulls":16},"Holtålen",5026]
[{"$nulls":16},"Horten",3801]
[{"$nulls":16},"Hurdal",3037]
[{"$nulls":16},"Hustadvika",1579]
[{"$nulls":16},"Hvaler",3011]
[{"$nulls":16},"Hyllestad",4637]
[{"$nulls":16},"Hægebostad",4226]
[{"$nulls":16},"Høyanger",4638]
[{"$nulls":16},"Høylandet",5046]
[{"$nulls":16},"Hå",1119]
[{"$nulls":16},"Ibestad",5413]
[{"$nulls":16},"Inderøy",5053]
[{"$nulls":16},"Indre Fosen",5054]
[{"$nulls":16},"Indre Østfold",3014]
[{"$nulls":16},"Iveland",4218]
[{"$nulls":16},"Jevnaker",3053]
[{"$nulls":16},"Karasjok",5437]
[{"$nulls":16},"Karlsøy",5423]
[{"$nulls":16},"Karmøy",1149]
[{"$nulls":16},"Kautokeino",5430]
[{"$nulls":16},"Kinn",4602]
[{"$nulls":16},"Klepp",1120]
[{"$nulls":16},"Kongsberg",3006]
[{"$nulls":16},"Kongsvinger",3401]
[{"$nulls":16},"Kragerø",3814]
[{"$nulls":16},"Kristiansand",4204]
[{"$nulls":16},"Kristiansund",1505]
[{"$nulls":16},"Krødsherad",3046]
[{"$nulls":16},"Kvam",4622]
[{"$nulls":16},"Kvinesdal",4227]
[{"$nulls":16},"Kvinnherad",4617]
[{"$nulls":16},"Kviteseid",3821]
[{"$nulls":16},"Kvitsøy",1144]
[{"$nulls":16},"Kvæfjord",5411]
[{"$nulls":16},"Kvænangen",5429]
[{"$nulls":16},"Kåfjord",5426]
[{"$nulls":16},"Larvik",3805]
[{"$nulls":16},"Lavangen",5415]
[{"$nulls":16},"Lebesby",5438]
[{"$nulls":16},"Leirfjord",1822]
[{"$nulls":16},"Leka",5052]
[{"$nulls":16},"Lesja",3432]
[{"$nulls":16},"Levanger",5037]
[{"$nulls":16},"Lier",3049]
[{"$nulls":16},"Lierne",5042]
[{"$nulls":16},"Lillehammer",3405]
[{"$nulls":16},"Lillesand",4215]
[{"$nulls":16},"Lillestrøm",3030]
[{"$nulls":16},"Lindesnes",4205]
[{"$nulls":16},"Lom",3434]
[{"$nulls":16},"Loppa",5432]
[{"$nulls":16},"Lund",1112]
[{"$nulls":16},"Lunner",3054]
[{"$nulls":16},"Lurøy",1834]
[{"$nulls":16},"Luster",4644]
[{"$nulls":16},"Lyngdal",4225]
[{"$nulls":16},"Lyngen",5424]
[{"$nulls":16},"Lærdal",4642]
[{"$nulls":16},"Lødingen",1851]
[{"$nulls":16},"Lørenskog",3029]
[{"$nulls":16},"Løten",3412]
[{"$nulls":16},"Malvik",5031]
[{"$nulls":16},"Marker",3013]
[{"$nulls":16},"Masfjorden",4634]
[{"$nulls":16},"Melhus",5028]
[{"$nulls":16},"Meløy",1837]
[{"$nulls":16},"Meråker",5034]
[{"$nulls":16},"Midtre Gauldal",5027]
[{"$nulls":16},"Midt-Telemark",3817]
[{"$nulls":16},"Modalen",4629]
[{"$nulls":16},"Modum",3047]
[{"$nulls":16},"Molde",1506]
[{"$nulls":16},"Moskenes",1874]
[{"$nulls":16},"Moss",3002]
[{"$nulls":16},"Målselv",5418]
[{"$nulls":16},"Måsøy",5434]
[{"$nulls":16},"Namsos",5007]
[{"$nulls":16},"Namsskogan",5044]
[{"$nulls":16},"Nannestad",3036]
[{"$nulls":16},"Narvik",1806]
[{"$nulls":16},"Nes",3034]
[{"$nulls":16},"Nesbyen",3040]
[{"$nulls":16},"Nesna",1828]
[{"$nulls":16},"Nesodden",3023]
[{"$nulls":16},"Nesseby",5442]
[{"$nulls":16},"Nissedal",3822]
[{"$nulls":16},"Nittedal",3031]
[{"$nulls":16},"Nome",3816]
[{"$nulls":16},"Nord-Aurdal",3451]
[{"$nulls":16},"Nord-Fron",3436]
[{"$nulls":16},"Nordkapp",5435]
[{"$nulls":16},"Nord-Odal",3414]
[{"$nulls":16},"Nordre Follo",3020]
[{"$nulls":16},"Nordre Land",3448]
[{"$nulls":16},"Nordreisa",5428]
[{"$nulls":16},"Nore og Uvdal",3052]
[{"$nulls":16},"Notodden",3808]
[{"$nulls":16},"Nærøysund",5060]
[{"$nulls":16},"Oppdal",5021]
[{"$nulls":16},"Orkland",5059]
[{"$nulls":16},"Os",3430]
[{"$nulls":16},"Osen",5020]
[{"$nulls":16},"Oslo",301]
[{"$nulls":16},"Osterøy",4630]
[{"$nulls":16},"Overhalla",5047]
[{"$nulls":16},"Porsanger",5436]
[{"$nulls":16},"Porsgrunn",3806]
[{"$nulls":16},"Rakkestad",3016]
[{"$nulls":16},"Rana",1833]
[{"$nulls":16},"Randaberg",1127]
[{"$nulls":16},"Rauma",1539]
[{"$nulls":16},"Rendalen",3424]
[{"$nulls":16},"Rennebu",5022]
[{"$nulls":16},"Rindal",5061]
[{"$nulls":16},"Ringebu",3439]
[{"$nulls":16},"Ringerike",3007]
[{"$nulls":16},"Ringsaker",3411]
[{"$nulls":16},"Risør",4201]
[{"$nulls":16},"Rollag",3051]
[{"$nulls":16},"Rælingen",3027]
[{"$nulls":16},"Rødøy",1836]
[{"$nulls":16},"Røros",5025]
[{"$nulls":16},"Røst",1856]
[{"$nulls":16},"Røyrvik",5043]
[{"$nulls":16},"Råde",3017]
[{"$nulls":16},"Salangen",5417]
[{"$nulls":16},"Saltdal",1840]
[{"$nulls":16},"Samnanger",4623]
[{"$nulls":16},"Sande",1514]
[{"$nulls":16},"Sandefjord",3804]
[{"$nulls":16},"Sandnes",1108]
[{"$nulls":16},"Sarpsborg",3003]
[{"$nulls":16},"Sauda",1135]
[{"$nulls":16},"Sel",3437]
[{"$nulls":16},"Selbu",5032]
[{"$nulls":16},"Seljord",3820]
[{"$nulls":16},"Senja",5421]
[{"$nulls":16},"Sigdal",3045]
[{"$nulls":16},"Siljan",3812]
[{"$nulls":16},"Sirdal",4228]
[{"$nulls":16},"Skaun",5029]
[{"$nulls":16},"Skien",3807]
[{"$nulls":16},"Skiptvet",3015]
[{"$nulls":16},"Skjervøy",5427]
[{"$nulls":16},"Skjåk",3433]
[{"$nulls":16},"Smøla",1573]
[{"$nulls":16},"Snåsa",5041]
[{"$nulls":16},"Sogndal",4640]
[{"$nulls":16},"Sokndal",1111]
[{"$nulls":16},"Sola",1124]
[{"$nulls":16},"Solund",4636]
[{"$nulls":16},"Sortland",1870]
[{"$nulls":16},"Stad",4649]
[{"$nulls":16},"Stange",3413]
[{"$nulls":16},"Stavanger",1103]
[{"$nulls":16},"Steigen",1848]
[{"$nulls":16},"Steinkjer",5006]
[{"$nulls":16},"Stjørdal",5035]
[{"$nulls":16},"Stord",4614]
[{"$nulls":16},"Stor-Elvdal",3423]
[{"$nulls":16},"Storfjord",5425]
[{"$nulls":16},"Strand",1130]
[{"$nulls":16},"Stranda",1525]
[{"$nulls":16},"Stryn",4651]
[{"$nulls":16},"Sula",1531]
[{"$nulls":16},"Suldal",1134]
[{"$nulls":16},"Sunndal",1563]
[{"$nulls":16},"Sunnfjord",4647]
[{"$nulls":16},"Surnadal",1566]
[{"$nulls":16},"Sveio",4612]
[{"$nulls":16},"Sykkylven",1528]
[{"$nulls":16},"Sømna",1812]
[{"$nulls":16},"Søndre Land",3447]
[{"$nulls":16},"Sør-Aurdal",3449]
[{"$nulls":16},"Sørfold",1845]
[{"$nulls":16},"Sør-Fron",3438]
[{"$nulls":16},"Sør-Odal",3415]
[{"$nulls":16},"Sørreisa",5419]
[{"$nulls":16},"Sør-Varanger",5444]
[{"$nulls":16},"Tana",5441]
[{"$nulls":16},"Time",1121]
[{"$nulls":16},"Tingvoll",1560]
[{"$nulls":16},"Tinn",3818]
[{"$nulls":16},"Tjeldsund",5412]
[{"$nulls":16},"Tokke",3824]
[{"$nulls":16},"Tolga",3426]
[{"$nulls":16},"Tromsø",5401]
[{"$nulls":16},"Trondheim",5001]
[{"$nulls":16},"Trysil",3421]
[{"$nulls":16},"Træna",1835]
[{"$nulls":16},"Tvedestrand",4213]
[{"$nulls":16},"Tydal",5033]
[{"$nulls":16},"Tynset",3427]
[{"$nulls":16},"Tysnes",4616]
[{"$nulls":16},"Tysvær",1146]
[{"$nulls":16},"Tønsberg",3803]
[{"$nulls":16},"Ullensaker",3033]
[{"$nulls":16},"Ullensvang",4618]
[{"$nulls":16},"Ulstein",1516]
[{"$nulls":16},"Ulvik",4620]
[{"$nulls":16},"Utsira",1151]
[{"$nulls":16},"Vadsø",5405]
[{"$nulls":16},"Vaksdal",4628]
[{"$nulls":16},"Valle",4221]
[{"$nulls":16},"Vang",3454]
[{"$nulls":16},"Vanylven",1511]
[{"$nulls":16},"Vardø",5404]
[{"$nulls":16},"Vefsn",1824]
[{"$nulls":16},"Vega",1815]
[{"$nulls":16},"Vegårshei",4212]
[{"$nulls":16},"Vennesla",4223]
[{"$nulls":16},"Verdal",5038]
[{"$nulls":16},"Vestby",3019]
[{"$nulls":16},"Vestnes",1535]
[{"$nulls":16},"Vestre Slidre",3452]
[{"$nulls":16},"Vestre Toten",3443]
[{"$nulls":16},"Vestvågøy",1860]
[{"$nulls":16},"Vevelstad",1816]
[{"$nulls":16},"Vik",4639]
[{"$nulls":16},"Vindafjord",1160]
[{"$nulls":16},"Vinje",3825]
[{"$nulls":16},"Volda",1577]
[{"$nulls":16},"Voss",4621]
[{"$nulls":16},"Værøy",1857]
[{"$nulls":16},"Vågan",1865]
[{"$nulls":16},"Vågå",3435]
[{"$nulls":16},"Våler (Hedm.)",3419]
[{"$nulls":16},"Våler (Østf.)",3018]
[{"$nulls":16},"Øksnes",1868]
[{"$nulls":16},"Ørland",5057]
[{"$nulls":16},"Ørsta",1520]
[{"$nulls":16},"Østre Toten",3442]
[{"$nulls":16},"Øvre Eiker",3048]
[{"$nulls":16},"Øyer",3440]
[{"$nulls":16},"Øygarden",4626]
[{"$nulls":16},"Øystre Slidre",3453]
[{"$nulls":16},"Åfjord",5058]
[{"$nulls":16},"Ål",3043]
[{"$nulls":16},"Ålesund",1507]
[{"$nulls":16},"Åmli",4217]
[{"$nulls":16},"Åmot",3422]
[{"$nulls":16},"Årdal",4643]
[{"$nulls":16},"Ås",3021]
[{"$nulls":16},"Åseral",4224]
[{"$nulls":16},"Åsnes",3418]